BEGIN:VCALENDAR
VERSION:2.0
PRODID:-//ATDL - ECPv6.15.11//NONSGML v1.0//EN
CALSCALE:GREGORIAN
METHOD:PUBLISH
X-ORIGINAL-URL:https://atdl.lu
X-WR-CALDESC:Évènements pour ATDL
REFRESH-INTERVAL;VALUE=DURATION:PT1H
X-Robots-Tag:noindex
X-PUBLISHED-TTL:PT1H
BEGIN:VTIMEZONE
TZID:Europe/Luxembourg
BEGIN:DAYLIGHT
TZOFFSETFROM:+0100
TZOFFSETTO:+0200
TZNAME:CEST
DTSTART:20220327T010000
END:DAYLIGHT
BEGIN:STANDARD
TZOFFSETFROM:+0200
TZOFFSETTO:+0100
TZNAME:CET
DTSTART:20221030T010000
END:STANDARD
BEGIN:DAYLIGHT
TZOFFSETFROM:+0100
TZOFFSETTO:+0200
TZNAME:CEST
DTSTART:20230326T010000
END:DAYLIGHT
BEGIN:STANDARD
TZOFFSETFROM:+0200
TZOFFSETTO:+0100
TZNAME:CET
DTSTART:20231029T010000
END:STANDARD
BEGIN:DAYLIGHT
TZOFFSETFROM:+0100
TZOFFSETTO:+0200
TZNAME:CEST
DTSTART:20240331T010000
END:DAYLIGHT
BEGIN:STANDARD
TZOFFSETFROM:+0200
TZOFFSETTO:+0100
TZNAME:CET
DTSTART:20241027T010000
END:STANDARD
END:VTIMEZONE
BEGIN:VEVENT
DTSTART;TZID=Europe/Luxembourg:20230322T090000
DTEND;TZID=Europe/Luxembourg:20230322T123000
DTSTAMP:20260426T030102
CREATED:20220902T130710Z
LAST-MODIFIED:20220902T130755Z
UID:3971-1679475600-1679488200@atdl.lu
SUMMARY:Comment construire une démarche de prévention et de gestion des risques psychosociaux
DESCRIPTION:Pétillances propose aux membres ATDL un atelier consacré à la prévention des risques psychosociaux: Comment construire une démarche de prévention et de gestion des risques psychosociaux \nCet atelier est reconnu comme formation complémentaire des TD. \nFormation gratuite pour les (futurs) membres ATDL.\nDes frais pourront être demandés en cas de désistement sans que nous soyons prévenus à temps.\n \nNombre de participants limité à 12; merci de réserver ici. \nLe lieu est susceptible de changer.
URL:https://atdl.lu/event/prevention-rps/
LOCATION:Forum Da Vinci\, 6 boulevard Grande-Duchesse Charlotte\, Luxembourg\, 1330\, Luxembourg
CATEGORIES:Formation continue
END:VEVENT
END:VCALENDAR