BEGIN:VCALENDAR
VERSION:2.0
PRODID:-//ATDL - ECPv6.15.11//NONSGML v1.0//EN
CALSCALE:GREGORIAN
METHOD:PUBLISH
X-WR-CALNAME:ATDL
X-ORIGINAL-URL:https://atdl.lu
X-WR-CALDESC:Évènements pour ATDL
REFRESH-INTERVAL;VALUE=DURATION:PT1H
X-Robots-Tag:noindex
X-PUBLISHED-TTL:PT1H
BEGIN:VTIMEZONE
TZID:Europe/Luxembourg
BEGIN:DAYLIGHT
TZOFFSETFROM:+0100
TZOFFSETTO:+0200
TZNAME:CEST
DTSTART:20210328T010000
END:DAYLIGHT
BEGIN:STANDARD
TZOFFSETFROM:+0200
TZOFFSETTO:+0100
TZNAME:CET
DTSTART:20211031T010000
END:STANDARD
BEGIN:DAYLIGHT
TZOFFSETFROM:+0100
TZOFFSETTO:+0200
TZNAME:CEST
DTSTART:20220327T010000
END:DAYLIGHT
BEGIN:STANDARD
TZOFFSETFROM:+0200
TZOFFSETTO:+0100
TZNAME:CET
DTSTART:20221030T010000
END:STANDARD
BEGIN:DAYLIGHT
TZOFFSETFROM:+0100
TZOFFSETTO:+0200
TZNAME:CEST
DTSTART:20230326T010000
END:DAYLIGHT
BEGIN:STANDARD
TZOFFSETFROM:+0200
TZOFFSETTO:+0100
TZNAME:CET
DTSTART:20231029T010000
END:STANDARD
END:VTIMEZONE
BEGIN:VEVENT
DTSTART;TZID=Europe/Luxembourg:20220512T100000
DTEND;TZID=Europe/Luxembourg:20220512T113000
DTSTAMP:20260425T172315
CREATED:20220419T084154Z
LAST-MODIFIED:20220419T084404Z
UID:3889-1652349600-1652355000@atdl.lu
SUMMARY:Aides d'État en faveur de la protection de l’environnement
DESCRIPTION:Nous partageons cet évènement organisé par le Helpdesk REACH&CLP Luxembourg\, en collaboration avec Luxinnovation et la plateforme Betriber&Emwelt qui peut intéresser certains de nos membres. \nCette session d’information en ligne le 12 mai 2022 de 10h00 à 11h30 traitera des aides d’État pour permettre aux entreprises d’aller au-delà des normes et technologies existantes afin de réduire leur impact sur l’environnement. \n\nL’événement consiste en une présentation par les représentants de Luxinnovation et une session de questions-réponses. \nAu cours de ce webinaire\, les sujets clés suivants seront présentés : \n\nAide aux investissements permettant aux entreprises de dépasser les normes de protection environnementale de l’Union ou d’augmenter le niveau de protection de l’environnement en l’absence de telles normes ;\nAide aux études environnementales ;\nAide aux activités de R&D ;\nAides spécifiques aux investissements des PME ;\nTypes d’investissements non éligibles aux aides d’État.\n\nPublic\nCet événement s’adresse à toutes les entreprises au Luxembourg (fabricants\, importateurs\, utilisateurs en aval de produits chimiques\, producteurs d’articles) et aux sociétés de consultance actives dans les domaines de REACH et CLP au Luxembourg. \nProgramme\nLes présentations se feront en français. Les participants sont invités à poser leurs questions en français\, anglais\, allemand ou luxembourgeois. Le programme est le suivant : \n\n\n\n10h00\nAccueil en ligne\n\n\n10h10\nMot de bienvenue\nDr. Mehrnoosh Azodi\, Helpdesk REACH&CLP Luxembourg\, Luxembourg Institute of Science and Technology (LIST)\n\n\n10h15\nIntroduction\nLaurène Chochois\, Helpdesk REACH&CLP Luxembourg\, Luxembourg Institute of Science and Technology (LIST)\n\n\n10h25\nAides d’Etat en faveur de la protection de l’environnement\nAvit Blanchy & Eric Lauer\, Luxinnovation\n\n\n10h55\nQuestions & réponses\n\n\n11h25\nConclusion\nDr. Mehrnoosh Azodi\, Helpdesk REACH&CLP Luxembourg\, Luxembourg Institute of Science and Technology (LIST)\n\n\n11h30\nFin\n\n\n\n  \nInscriptions
URL:https://atdl.lu/event/aides-environnement/
END:VEVENT
BEGIN:VEVENT
DTSTART;TZID=Europe/Luxembourg:20220516T130000
DTEND;TZID=Europe/Luxembourg:20220516T170000
DTSTAMP:20260425T172315
CREATED:20220414T161707Z
LAST-MODIFIED:20220416T082833Z
UID:3868-1652706000-1652720400@atdl.lu
SUMMARY:Réunion GT BAT-ITM
DESCRIPTION:Cette réunion organisé en partenariat avec l’IFSB est reconnue comme formation continue pour les Travailleurs Désignés. \n \nCapacité limitée à 30 personnes. Merci de vous inscrire: https://forms.gle/92Qr6otddmu8J8xHA \nProgramme \n\nRappel rôles et missions de l’ITM\nLes contrôles sur chantier\nStatistiques\nDocuments obligatoires\nLes principales infractions en matière SST relevées sur chantier\nAnalyse des infractions\nQuestions réponses\n\n \nIntervenant: Frank Weisgerber\, ITM
URL:https://atdl.lu/event/reunion-gt-bat-itm/
LOCATION:IFSB\, 5 Zone d'Activités Economiques Krakelshaff\, Bettembourg\, 3290\, Luxembourg
END:VEVENT
BEGIN:VEVENT
DTSTART;TZID=Europe/Luxembourg:20220518T133000
DTEND;TZID=Europe/Luxembourg:20220518T170000
DTSTAMP:20260425T172315
CREATED:20220315T082605Z
LAST-MODIFIED:20220415T075913Z
UID:3725-1652880600-1652893200@atdl.lu
SUMMARY:Atelier KESKONFAISI
DESCRIPTION:Pétillances propose aux membres ATDL un atelier consacré à la prévention des risques psychosociaux. \nCet atelier avait remporté le prix du public lors du Forum Sécurité santé au Travail en 2018. Il a été mis à jour pour tenir compte du retour d’expérience lié au contexte COVID et à l’accroissement du télétravail. \nCet atelier est reconnu comme formation complémentaire des TD. \nFormation gratuite pour les (futurs) membres ATDL \nNombre de participants limité; merci de réserver ici
URL:https://atdl.lu/event/keskonfaisi_2022/
LOCATION:LC Académie\, Zone Um Woeller\, Sanem\, 4410\, Luxembourg
CATEGORIES:Formation continue
END:VEVENT
END:VCALENDAR