BEGIN:VCALENDAR
VERSION:2.0
PRODID:-//ATDL - ECPv6.15.11//NONSGML v1.0//EN
CALSCALE:GREGORIAN
METHOD:PUBLISH
X-ORIGINAL-URL:https://atdl.lu
X-WR-CALDESC:Évènements pour ATDL
REFRESH-INTERVAL;VALUE=DURATION:PT1H
X-Robots-Tag:noindex
X-PUBLISHED-TTL:PT1H
BEGIN:VTIMEZONE
TZID:Europe/Luxembourg
BEGIN:DAYLIGHT
TZOFFSETFROM:+0100
TZOFFSETTO:+0200
TZNAME:CEST
DTSTART:20190331T010000
END:DAYLIGHT
BEGIN:STANDARD
TZOFFSETFROM:+0200
TZOFFSETTO:+0100
TZNAME:CET
DTSTART:20191027T010000
END:STANDARD
BEGIN:DAYLIGHT
TZOFFSETFROM:+0100
TZOFFSETTO:+0200
TZNAME:CEST
DTSTART:20200329T010000
END:DAYLIGHT
BEGIN:STANDARD
TZOFFSETFROM:+0200
TZOFFSETTO:+0100
TZNAME:CET
DTSTART:20201025T010000
END:STANDARD
BEGIN:DAYLIGHT
TZOFFSETFROM:+0100
TZOFFSETTO:+0200
TZNAME:CEST
DTSTART:20210328T010000
END:DAYLIGHT
BEGIN:STANDARD
TZOFFSETFROM:+0200
TZOFFSETTO:+0100
TZNAME:CET
DTSTART:20211031T010000
END:STANDARD
END:VTIMEZONE
BEGIN:VEVENT
DTSTART;TZID=Europe/Luxembourg:20201218T090000
DTEND;TZID=Europe/Luxembourg:20201218T123000
DTSTAMP:20260425T041732
CREATED:20201208T123251Z
LAST-MODIFIED:20201208T123401Z
UID:3678-1608282000-1608294600@atdl.lu
SUMMARY:Prévention des TMS : deux nouveaux séminaires en ligne
DESCRIPTION:L’Inspection du travail et des mines a le plaisir de vous inviter à deux séminaires en ligne qui traiteront des troubles musculosquelettiques (TMS). \nCes formations sont reconnues comme formation continue des Travailleurs Désignés. \n\n9h30 : Les TMS et l‘identification des risques\n11h30 : Les TMS et l’ergonomie\n\nLes TMS et l’identification des risques\n\n9h00  : Connexion\n9h30 : Mot d’accueil et introduction\nMarco Boly\, Directeur\, Inspection du travail et des mines\n9h40 :\nTMS et démarche de prévention \nAyse Kaya\, Ergonome Européen\, Service de Santé au Travail MultisectorielTémoignage d’entreprise\nStève Mine\, Responsible Process Engineer\, Carlex Glass Luxembourg\n10h40 : Séance de questions-réponses\n10h55 : Mot de clôture\nMarco Boly\, Directeur\, Inspection du travail et des mines\n\nLes TMS et l’ergonomie\n\n11h00 : Connexion\n11h30 : Introduction\nMarco Boly\, Directeur\, Inspection du travail et des mines\n11h40 : TMS et ergonomie\nLaetitia Magny\, Ergonome\, Service de Santé au Travail de l’Industrie\n12h10 : Témoignage d’entreprise\nDr Karine Mucciante\, Médecin du travail\, ArcelorMittal Luxembourg\n12h40 : Séance de questions-réponses\n12h55 : Mot de clôture\nMarco Boly\, Directeur\, Inspection du travail et des mines\n\n\n\nTéléchargez le programme et inscrivez-vous !
URL:https://atdl.lu/event/itm_tms20201218/
CATEGORIES:Conférence,Formation continue
END:VEVENT
END:VCALENDAR