BEGIN:VCALENDAR
VERSION:2.0
PRODID:-//ATDL - ECPv6.15.11//NONSGML v1.0//EN
CALSCALE:GREGORIAN
METHOD:PUBLISH
X-WR-CALNAME:ATDL
X-ORIGINAL-URL:https://atdl.lu
X-WR-CALDESC:Évènements pour ATDL
REFRESH-INTERVAL;VALUE=DURATION:PT1H
X-Robots-Tag:noindex
X-PUBLISHED-TTL:PT1H
BEGIN:VTIMEZONE
TZID:Europe/Luxembourg
BEGIN:DAYLIGHT
TZOFFSETFROM:+0100
TZOFFSETTO:+0200
TZNAME:CEST
DTSTART:20180325T010000
END:DAYLIGHT
BEGIN:STANDARD
TZOFFSETFROM:+0200
TZOFFSETTO:+0100
TZNAME:CET
DTSTART:20181028T010000
END:STANDARD
BEGIN:DAYLIGHT
TZOFFSETFROM:+0100
TZOFFSETTO:+0200
TZNAME:CEST
DTSTART:20190331T010000
END:DAYLIGHT
BEGIN:STANDARD
TZOFFSETFROM:+0200
TZOFFSETTO:+0100
TZNAME:CET
DTSTART:20191027T010000
END:STANDARD
BEGIN:DAYLIGHT
TZOFFSETFROM:+0100
TZOFFSETTO:+0200
TZNAME:CEST
DTSTART:20200329T010000
END:DAYLIGHT
BEGIN:STANDARD
TZOFFSETFROM:+0200
TZOFFSETTO:+0100
TZNAME:CET
DTSTART:20201025T010000
END:STANDARD
END:VTIMEZONE
BEGIN:VEVENT
DTSTART;TZID=Europe/Luxembourg:20191212T123000
DTEND;TZID=Europe/Luxembourg:20191212T170000
DTSTAMP:20260425T005355
CREATED:20191203T162748Z
LAST-MODIFIED:20191204T150024Z
UID:3468-1576153800-1576170000@atdl.lu
SUMMARY:Conférence annuelle REACH
DESCRIPTION:Le Helpdesk REACH&CLP Luxembourg\, un service du Luxembourg Institute of Science and Technology (LIST)\, a organisé ce 12décembre 2019\, avec le soutien du Ministère du Développement durable et des Infrastructures et du Ministère de l’Economie\, sa 13ème conférence annuelle. Intitulée « Conférence et Networking Lunch : Mise en œuvre des règlements REACH et CLP et challenges à venir »\, l’événement a\, cette année encore\, permis de sensibiliser les professionnels luxembourgeois sur leurs obligations face aux règlements européens REACH « Registration\, Evaluation\, Authorisation and restriction of Chemicals » et CLP « Classification\, Labelling and Packaging »\, dédiées respectivement à l’enRegistrement\, l’Evaluation\, l’Autorisation et la restriction des substances CHimiques et à la classification\, à l’étiquetage et à l’emballage des substances et des mélanges. Ces réglementations européennes constituent un défi constant pour les entreprises fabriquant\, important ou utilisant des produits chimiques puisqu’elles doivent non seulement s’assurer de leur bonne conformité vis-à-vis de celles-ci\, mais également être proactives dans leurs démarches réglementaires. \nInformations et inscriptions: https://www.reach.lu/fr/support/centre-de-ressources/evenements/evenements-detail/conference-annuelle-reachclp-2019-nouvelles-legislations-europeennes-et-les-defis-qui-en-decoulen/ \nProgramme\nLes présentations se feront en français ou anglais en fonction des intervenants (pas de traduction). \n\n\n\n 12h30 – Accueil & Networking lunch\n\n\n\n\n13h30\nMots de bienvenue\n\nFedil (TBC)\nJoëlle Welfring\, Directrice adjointe\, Administration de l’environnement (AEV)\nLucien Hoffmann\, Directeur du département Environmental Research and Innovation (ERIN)\, Luxembourg Institute of Science and Technology (LIST)\n\n\n\n\n13h50\nIntroductionLaurène Chochois\, Helpdesk REACH&CLP Luxembourg\n\n\n14h05\nNouveau règlement sur les Polluants Organiques Persistents (POP) – Introduction and impact pour les entreprisesGhaya Rziga\, Helpdesk REACH&CLP Luxembourg\n\n\n14h30\nDirective cadre sur les déchets et annexe VIII du CLP – Comment le HelpNet et le Forum contribue à la mise en œuvre de ces nouvelles législationsErwin Annys\, Directeur de l’unité support et mise en oeuvre\, Agence européenne des produits chimiques (ECHA)\n\n\n15h00\nSession Questions & Réponses\n\n\n\n\n\n\n 15h10 – Pause café\n\n\n\n\n15h30\nInterface REACH et législation OSH – Calcul des valeurs limites sur le lieu de travail par le RAC de l’ECHARuth Moeller\, Helpdesk REACH&CLP Luxembourg\n\n\n15h55\nDéclaration des mélanges dangereux – Quoi de nouveau pour le Luxembourg\n\nLaurène Chochois\, Helpdesk REACH&CLP Luxembourg\nFrançois Wuyts\, Coordinateur informatique\, Centre antipoisons de Bruxelles\n\n\n\n\n16h30\nProjet AskREACH  – Statut du projet et lancement de l’application mobile Scan4ChemOona Freudenthal\, Helpdesk REACH&CLP Luxembourg\n\n\n16h45\nSession Questions & Réponses\n\n\n16h55\nConclusionLaurène Chochois\, Helpdesk REACH&CLP Luxembourg
URL:https://atdl.lu/event/conference-annuelle-reach/
LOCATION:Chambre de Commerce\, 7\, rue Alcide de Gasperi\, Luxembourg\, 2980\, Luxembourg
END:VEVENT
END:VCALENDAR