BEGIN:VCALENDAR
VERSION:2.0
PRODID:-//ATDL - ECPv6.15.11//NONSGML v1.0//EN
CALSCALE:GREGORIAN
METHOD:PUBLISH
X-ORIGINAL-URL:https://atdl.lu
X-WR-CALDESC:Évènements pour ATDL
REFRESH-INTERVAL;VALUE=DURATION:PT1H
X-Robots-Tag:noindex
X-PUBLISHED-TTL:PT1H
BEGIN:VTIMEZONE
TZID:Europe/Paris
BEGIN:DAYLIGHT
TZOFFSETFROM:+0100
TZOFFSETTO:+0200
TZNAME:CEST
DTSTART:20180325T010000
END:DAYLIGHT
BEGIN:STANDARD
TZOFFSETFROM:+0200
TZOFFSETTO:+0100
TZNAME:CET
DTSTART:20181028T010000
END:STANDARD
BEGIN:DAYLIGHT
TZOFFSETFROM:+0100
TZOFFSETTO:+0200
TZNAME:CEST
DTSTART:20190331T010000
END:DAYLIGHT
BEGIN:STANDARD
TZOFFSETFROM:+0200
TZOFFSETTO:+0100
TZNAME:CET
DTSTART:20191027T010000
END:STANDARD
BEGIN:DAYLIGHT
TZOFFSETFROM:+0100
TZOFFSETTO:+0200
TZNAME:CEST
DTSTART:20200329T010000
END:DAYLIGHT
BEGIN:STANDARD
TZOFFSETFROM:+0200
TZOFFSETTO:+0100
TZNAME:CET
DTSTART:20201025T010000
END:STANDARD
END:VTIMEZONE
BEGIN:VEVENT
DTSTART;TZID=Europe/Paris:20190326T180000
DTEND;TZID=Europe/Paris:20190326T203000
DTSTAMP:20260424T220758
CREATED:20190312T211336Z
LAST-MODIFIED:20200205T105635Z
UID:2313-1553623200-1553632200@atdl.lu
SUMMARY:Assemblée générale 2019
DESCRIPTION:Nous vous invitons à notre Assemblée Générale ordinaire qui se tiendra le 26 mars au Forum DaVinci.\n\nVoici le programme\, susceptible de changements:\n\n	Un mot d’accueil du président.\n	Présentation des nouveautés Vision Zero par Annick Sunnen (AAA)\n	Bilan des activités de l’année 2018 par le secrétaire.\n	Rapport de caisse de l’année 2018 par le trésorier.\n	Rapport des commissaires aux comptes et décharge au trésorier.\n	Discussion des rapports et décharge du conseil d’administration.\n	Orientation de l’ATDL en 2019\n	Fixation du droit d’entrée et détermination des cotisations pour l’exercice 2020.\n	Activités et budget prévisionnels pour l’année 2018\n	Présentation du GT Batiment et proposition de futurs groupes de travail (industrie…)\n	Renouvellement partiel du conseil d’administration. Élection de 3 membres effectifs et 2 suppléants (article 5). Vous pouvez poser votre candidature en utilisant le bas du formulaire 2019_assemblee-elections\n	Election de deux commissaires aux comptes (article 11)\n	Discussion libre\n	Clôture de l’assemblée avec un snack et un verre d’amitié.\n\nMerci de bien vouloir confirmer votre présence\, par email à info@atdl.lu ou depuis notre site\, avant le 18 mars pour nous permettre de garantir une bonne organisation de l’évènement. Nous vous invitons également à renouveler votre adhésion (vous avez dû recevoir une facture début février : n’hésitez pas à nous contacter en cas de souci). Pour les nouveaux adhérents: http://atdl.lu/members/signup. Les membres qui désirent se faire représenter par un autre membre\, sont priés de remettre la procuration (2019_assemblee-procuration)\, dûment signée\, à leur mandataire (une seule procuration par mandataire ; il faut que le mandataire soit membre de l’ATDL).   Dans l’attente de vous voir\, nous vous prions nous vous prions d’agréer\, Mesdames\, Messieurs\, l’expression de nos salutations amicales\n\n \n\n 
URL:https://atdl.lu/event/ag-2019/
LOCATION:Forum Da Vinci\, 6 boulevard Grande-Duchesse Charlotte\, Luxembourg\, 1330\, Luxembourg
CATEGORIES:Assemblée Générale
END:VEVENT
BEGIN:VEVENT
DTSTART;TZID=Europe/Paris:20190327T140000
DTEND;TZID=Europe/Paris:20190327T173000
DTSTAMP:20260424T220758
CREATED:20170122T113030Z
LAST-MODIFIED:20190122T202724Z
UID:2187-1553695200-1553707800@atdl.lu
SUMMARY:Forum Sécurité Santé
DESCRIPTION:Réservez la date! \nLa 13ème édition du forum Sécurité et Santé au Travail aura lieu le 27 mars à la Chambre de Commerce. \nInscriptions: https://visionzero.lu/inscription-visiteur/  \n13h30 Accueil \n14h00 – 14h20 Allocutions de bienvenue \n\nTom Oberweis\, Vice-Président de l’UEL et de l’INDR\, Président de la Chambre des Métiers\nRomain Schneider\, Ministre de la Sécurité sociale\n\n14h20 – 14h40 Safety Leadership Commitment – Prise de conscience et engagement du management dans une culture de prévention \n\nJohan Remmery\, Owner PUZZEL\n\n14h40 – 15h00 Le projet C.A.P.S. (Compagnon Acteur de la Prévention et de la Sécurité) – une implication efficace des travailleurs sur chantier \n\nFranck Becherel\, Directeur général de Tralux\nFanny Larrière\, Travailleur désigné de Tralux\n\n15h00 – 15h20 Évaluation des risques et analyse des accidents\, des incidents et des presque accidents avec l’implication du personnel \n\nMichel Fralonardo\, Responsable du Département Sécurité et Santé de Luxairgroup\n\n15h20 – 15h50 Pause \n15h50 – 16h15 Présentation du plan d’action #Bewosst_Sécher_Gesond du Centre Hospitalier du Nord et partage des bonnes pratiques en matière de prévention des risques psychosociaux (RPS) \n\nCharel Frauenberg\, Chef du Service Protection et Prévention au Centre Hospitalier du Nord\nVinciane Derouaux\, Cadre intermédiaire RH et Adjointe au Directeur administratif et financier du Centre Hospitalier du Nord\n\n16h15 – 16h35 Prévention des risques psychosociaux (RPS) dans l’entreprise \n\nDr Patrizia Thiry\, Directrice générale de l’ASTF\n\n16h35 – 16h55 La nouvelle norme ISO 45001:2018 \n\nAnne-Christine Adelin\, Consultante sénior auprès de Luxcontrol\n\n16h55 – 17h20 Guides et outils pour une gestion efficace de la sécurité et santé au travail \n\nNorman Fisch\, Secrétaire général de l’INDR\nAnnick Sunnen\, Responsable du Service Prévention de l’AAA\n\n17h20 – 17h30 Mot de clôture \n\nClaude Seywert\, Président de l’AAA\n\n17h30 Verre de l’amitié \n  \n 
URL:https://atdl.lu/event/forum-sst-2019/
LOCATION:Chambre de Commerce\, 7\, rue Alcide de Gasperi\, Luxembourg\, 2980\, Luxembourg
CATEGORIES:Conférence,Formation continue
END:VEVENT
END:VCALENDAR