BEGIN:VCALENDAR
VERSION:2.0
PRODID:-//ATDL - ECPv6.15.11//NONSGML v1.0//EN
CALSCALE:GREGORIAN
METHOD:PUBLISH
X-WR-CALNAME:ATDL
X-ORIGINAL-URL:https://atdl.lu
X-WR-CALDESC:Évènements pour ATDL
REFRESH-INTERVAL;VALUE=DURATION:PT1H
X-Robots-Tag:noindex
X-PUBLISHED-TTL:PT1H
BEGIN:VTIMEZONE
TZID:Europe/Paris
BEGIN:DAYLIGHT
TZOFFSETFROM:+0100
TZOFFSETTO:+0200
TZNAME:CEST
DTSTART:20170326T010000
END:DAYLIGHT
BEGIN:STANDARD
TZOFFSETFROM:+0200
TZOFFSETTO:+0100
TZNAME:CET
DTSTART:20171029T010000
END:STANDARD
BEGIN:DAYLIGHT
TZOFFSETFROM:+0100
TZOFFSETTO:+0200
TZNAME:CEST
DTSTART:20180325T010000
END:DAYLIGHT
BEGIN:STANDARD
TZOFFSETFROM:+0200
TZOFFSETTO:+0100
TZNAME:CET
DTSTART:20181028T010000
END:STANDARD
BEGIN:DAYLIGHT
TZOFFSETFROM:+0100
TZOFFSETTO:+0200
TZNAME:CEST
DTSTART:20190331T010000
END:DAYLIGHT
BEGIN:STANDARD
TZOFFSETFROM:+0200
TZOFFSETTO:+0100
TZNAME:CET
DTSTART:20191027T010000
END:STANDARD
END:VTIMEZONE
BEGIN:VEVENT
DTSTART;TZID=Europe/Paris:20181123T083000
DTEND;TZID=Europe/Paris:20181123T083000
DTSTAMP:20260424T214951
CREATED:20181112T112436Z
LAST-MODIFIED:20181112T130101Z
UID:2490-1542961800-1542961800@atdl.lu
SUMMARY:Atelier Keskonfaisi - RAPPEL
DESCRIPTION:Réservez votre matinée et inscrivez-vous VITE (nombre de places limité à 9)  à info(at)atdl.lu : Pétillances propose un atelier de formation à cette solution ludique primée au forum Sécurité Santé! \nKeskonfaisi \nCette formation est reconnue comme formation continue pour les Travailleurs Désignés! \nElle sera suivi d’un lunch sous forme de buffet. \nGratuit pour nos membres à jour de cotisation. \nNon membres : participation aux frais de 50 €\, pouvant être imputée sur les droits d’entrée pour de nouveaux membres. \nVeuillez nous contacter pour les modalités de paiement. Une facture pourra être établie. \n 
URL:https://atdl.lu/event/atelier-keskonfaisi/
LOCATION:CBL\, 18\, Rue du Commerce\,  Niederkorn\,  4578\, Luxembourg
CATEGORIES:Formation continue
END:VEVENT
END:VCALENDAR