BEGIN:VCALENDAR
VERSION:2.0
PRODID:-//ATDL - ECPv6.15.11//NONSGML v1.0//EN
CALSCALE:GREGORIAN
METHOD:PUBLISH
X-WR-CALNAME:ATDL
X-ORIGINAL-URL:https://atdl.lu
X-WR-CALDESC:Évènements pour ATDL
REFRESH-INTERVAL;VALUE=DURATION:PT1H
X-Robots-Tag:noindex
X-PUBLISHED-TTL:PT1H
BEGIN:VTIMEZONE
TZID:Europe/Luxembourg
BEGIN:DAYLIGHT
TZOFFSETFROM:+0100
TZOFFSETTO:+0200
TZNAME:CEST
DTSTART:20210328T010000
END:DAYLIGHT
BEGIN:STANDARD
TZOFFSETFROM:+0200
TZOFFSETTO:+0100
TZNAME:CET
DTSTART:20211031T010000
END:STANDARD
BEGIN:DAYLIGHT
TZOFFSETFROM:+0100
TZOFFSETTO:+0200
TZNAME:CEST
DTSTART:20220327T010000
END:DAYLIGHT
BEGIN:STANDARD
TZOFFSETFROM:+0200
TZOFFSETTO:+0100
TZNAME:CET
DTSTART:20221030T010000
END:STANDARD
BEGIN:DAYLIGHT
TZOFFSETFROM:+0100
TZOFFSETTO:+0200
TZNAME:CEST
DTSTART:20230326T010000
END:DAYLIGHT
BEGIN:STANDARD
TZOFFSETFROM:+0200
TZOFFSETTO:+0100
TZNAME:CET
DTSTART:20231029T010000
END:STANDARD
END:VTIMEZONE
BEGIN:VEVENT
DTSTART;TZID=Europe/Luxembourg:20221026T090000
DTEND;TZID=Europe/Luxembourg:20221026T163000
DTSTAMP:20260425T221750
CREATED:20220311T174219Z
LAST-MODIFIED:20221209T163420Z
UID:3834-1666774800-1666801800@atdl.lu
SUMMARY:Forum SST 2022 - Save the date
DESCRIPTION:Aux dernières nouvelles\, le forum sécurité santé se tiendra le 26 octobre à Luxexpo. \nNous aurons le plaisir de vous y retrouver. \nProgramme à venir
URL:https://atdl.lu/event/forum-sst-2022/
LOCATION:Luxexpo\, 10 circuit de la Foire internatonale\, Luxembourg\, Luxembourg
CATEGORIES:Assemblée Générale
END:VEVENT
END:VCALENDAR