BEGIN:VCALENDAR
VERSION:2.0
PRODID:-//ATDL - ECPv6.15.11//NONSGML v1.0//EN
CALSCALE:GREGORIAN
METHOD:PUBLISH
X-WR-CALNAME:ATDL
X-ORIGINAL-URL:https://atdl.lu
X-WR-CALDESC:Évènements pour ATDL
REFRESH-INTERVAL;VALUE=DURATION:PT1H
X-Robots-Tag:noindex
X-PUBLISHED-TTL:PT1H
BEGIN:VTIMEZONE
TZID:Europe/Luxembourg
BEGIN:DAYLIGHT
TZOFFSETFROM:+0100
TZOFFSETTO:+0200
TZNAME:CEST
DTSTART:20210328T010000
END:DAYLIGHT
BEGIN:STANDARD
TZOFFSETFROM:+0200
TZOFFSETTO:+0100
TZNAME:CET
DTSTART:20211031T010000
END:STANDARD
BEGIN:DAYLIGHT
TZOFFSETFROM:+0100
TZOFFSETTO:+0200
TZNAME:CEST
DTSTART:20220327T010000
END:DAYLIGHT
BEGIN:STANDARD
TZOFFSETFROM:+0200
TZOFFSETTO:+0100
TZNAME:CET
DTSTART:20221030T010000
END:STANDARD
BEGIN:DAYLIGHT
TZOFFSETFROM:+0100
TZOFFSETTO:+0200
TZNAME:CEST
DTSTART:20230326T010000
END:DAYLIGHT
BEGIN:STANDARD
TZOFFSETFROM:+0200
TZOFFSETTO:+0100
TZNAME:CET
DTSTART:20231029T010000
END:STANDARD
END:VTIMEZONE
BEGIN:VEVENT
DTSTART;TZID=Europe/Luxembourg:20221013T183000
DTEND;TZID=Europe/Luxembourg:20221013T200000
DTSTAMP:20260425T221845
CREATED:20220831T082735Z
LAST-MODIFIED:20220927T172352Z
UID:3968-1665685800-1665691200@atdl.lu
SUMMARY:Afterwork Déclaration d'accident
DESCRIPTION:Nous vous invitons à cet afterwork avec la participation de M. Schimberg\, AAA qui expliquera les obligations du point de vue Assurance Accident et répondra à vos questions. \n\n18h00/18h30 Accueil des participants\n18h30/18h45 Mot du président\n18h45/19h45 Présentation « Comment rédiger une déclaration d’accident de travail »\n\nPar M. Guillaume SCHIMBERG de l’A.A.A \n\n19h45/20h30 Verre de l’amitié.\n\nInscriptions ici \nNombre limité à 40 personnes
URL:https://atdl.lu/event/after-declaration-accident/
LOCATION:Centre de compétences GT Bâtiment Parachèvement\, 448 ZAE Wolser F\, Bettembourg\, 3290\, Luxembourg
END:VEVENT
END:VCALENDAR