BEGIN:VCALENDAR
VERSION:2.0
PRODID:-//ATDL - ECPv6.15.11//NONSGML v1.0//EN
CALSCALE:GREGORIAN
METHOD:PUBLISH
X-ORIGINAL-URL:https://atdl.lu
X-WR-CALDESC:Évènements pour ATDL
REFRESH-INTERVAL;VALUE=DURATION:PT1H
X-Robots-Tag:noindex
X-PUBLISHED-TTL:PT1H
BEGIN:VTIMEZONE
TZID:Europe/Luxembourg
BEGIN:DAYLIGHT
TZOFFSETFROM:+0100
TZOFFSETTO:+0200
TZNAME:CEST
DTSTART:20210328T010000
END:DAYLIGHT
BEGIN:STANDARD
TZOFFSETFROM:+0200
TZOFFSETTO:+0100
TZNAME:CET
DTSTART:20211031T010000
END:STANDARD
BEGIN:DAYLIGHT
TZOFFSETFROM:+0100
TZOFFSETTO:+0200
TZNAME:CEST
DTSTART:20220327T010000
END:DAYLIGHT
BEGIN:STANDARD
TZOFFSETFROM:+0200
TZOFFSETTO:+0100
TZNAME:CET
DTSTART:20221030T010000
END:STANDARD
BEGIN:DAYLIGHT
TZOFFSETFROM:+0100
TZOFFSETTO:+0200
TZNAME:CEST
DTSTART:20230326T010000
END:DAYLIGHT
BEGIN:STANDARD
TZOFFSETFROM:+0200
TZOFFSETTO:+0100
TZNAME:CET
DTSTART:20231029T010000
END:STANDARD
END:VTIMEZONE
BEGIN:VEVENT
DTSTART;TZID=Europe/Luxembourg:20221010T130000
DTEND;TZID=Europe/Luxembourg:20221010T170000
DTSTAMP:20260425T222039
CREATED:20220927T172934Z
LAST-MODIFIED:20220927T173535Z
UID:3982-1665406800-1665421200@atdl.lu
SUMMARY:Workshop ATDL-IFSB Rôle de l'AAA
DESCRIPTION:Cette réunion organisé en partenariat avec l’IFSB est reconnue comme formation continue pour les Travailleurs Désignés. \nÉvènement réservé au secteur bâtiment \n \nCapacité limitée à 30 personnes. Merci de vous inscrire: https://forms.gle/92Qr6otddmu8J8xHA \nProgramme \nProgramme : \n\nRôle et missions AAA\nStatistiques accident et maladies professionnelles\nRecommandations AAA\nFormations\nVision zéro\nProblèmes SST rencontrés lors de visite d’entreprises et de chantier\n…\nQuestions-réponses\n\nIntervenant: AAA
URL:https://atdl.lu/event/workshop-role-aaa/
LOCATION:Adecco\, 5\, rue des Mérinvogiens\, Bertrange\, 8070\, Luxembourg
CATEGORIES:Formation continue,Groupes de travail
ORGANIZER;CN="IFSB":MAILTO:m.delima@ifsb.lu
END:VEVENT
END:VCALENDAR