BEGIN:VCALENDAR
VERSION:2.0
PRODID:-//ATDL - ECPv6.15.11//NONSGML v1.0//EN
CALSCALE:GREGORIAN
METHOD:PUBLISH
X-WR-CALNAME:ATDL
X-ORIGINAL-URL:https://atdl.lu
X-WR-CALDESC:Évènements pour ATDL
REFRESH-INTERVAL;VALUE=DURATION:PT1H
X-Robots-Tag:noindex
X-PUBLISHED-TTL:PT1H
BEGIN:VTIMEZONE
TZID:Europe/Luxembourg
BEGIN:DAYLIGHT
TZOFFSETFROM:+0100
TZOFFSETTO:+0200
TZNAME:CEST
DTSTART:20210328T010000
END:DAYLIGHT
BEGIN:STANDARD
TZOFFSETFROM:+0200
TZOFFSETTO:+0100
TZNAME:CET
DTSTART:20211031T010000
END:STANDARD
BEGIN:DAYLIGHT
TZOFFSETFROM:+0100
TZOFFSETTO:+0200
TZNAME:CEST
DTSTART:20220327T010000
END:DAYLIGHT
BEGIN:STANDARD
TZOFFSETFROM:+0200
TZOFFSETTO:+0100
TZNAME:CET
DTSTART:20221030T010000
END:STANDARD
BEGIN:DAYLIGHT
TZOFFSETFROM:+0100
TZOFFSETTO:+0200
TZNAME:CEST
DTSTART:20230326T010000
END:DAYLIGHT
BEGIN:STANDARD
TZOFFSETFROM:+0200
TZOFFSETTO:+0100
TZNAME:CET
DTSTART:20231029T010000
END:STANDARD
END:VTIMEZONE
BEGIN:VEVENT
DTSTART;TZID=Europe/Luxembourg:20220311T123000
DTEND;TZID=Europe/Luxembourg:20220311T140000
DTSTAMP:20260425T152852
CREATED:20220209T131528Z
LAST-MODIFIED:20220307T125700Z
UID:3797-1647001800-1647007200@atdl.lu
SUMMARY:Présentation Lunettes de sécurité avec verres correcteurs
DESCRIPTION:Les lunettes de sécurité standard peuvent poser problème aux porteurs de verres correcteurs. \nC’est pourquoi nous vous proposons de découvrir les prestations de Cotral dans ce domaine. \nLes protections auditives sur mesure seront également présentées à cette occasion. \nNombre de participants limité dans le respect des mesures sanitaires.  
URL:https://atdl.lu/event/presentation-lunettes-de-securite-avec-verres-correcteurs/
LOCATION:Forum Da Vinci\, 6 boulevard Grande-Duchesse Charlotte\, Luxembourg\, 1330\, Luxembourg
END:VEVENT
END:VCALENDAR