BEGIN:VCALENDAR
VERSION:2.0
PRODID:-//ATDL - ECPv6.15.11//NONSGML v1.0//EN
CALSCALE:GREGORIAN
METHOD:PUBLISH
X-WR-CALNAME:ATDL
X-ORIGINAL-URL:https://atdl.lu
X-WR-CALDESC:Évènements pour ATDL
REFRESH-INTERVAL;VALUE=DURATION:PT1H
X-Robots-Tag:noindex
X-PUBLISHED-TTL:PT1H
BEGIN:VTIMEZONE
TZID:Europe/Luxembourg
BEGIN:DAYLIGHT
TZOFFSETFROM:+0100
TZOFFSETTO:+0200
TZNAME:CEST
DTSTART:20190331T010000
END:DAYLIGHT
BEGIN:STANDARD
TZOFFSETFROM:+0200
TZOFFSETTO:+0100
TZNAME:CET
DTSTART:20191027T010000
END:STANDARD
BEGIN:DAYLIGHT
TZOFFSETFROM:+0100
TZOFFSETTO:+0200
TZNAME:CEST
DTSTART:20200329T010000
END:DAYLIGHT
BEGIN:STANDARD
TZOFFSETFROM:+0200
TZOFFSETTO:+0100
TZNAME:CET
DTSTART:20201025T010000
END:STANDARD
BEGIN:DAYLIGHT
TZOFFSETFROM:+0100
TZOFFSETTO:+0200
TZNAME:CEST
DTSTART:20210328T010000
END:DAYLIGHT
BEGIN:STANDARD
TZOFFSETFROM:+0200
TZOFFSETTO:+0100
TZNAME:CET
DTSTART:20211031T010000
END:STANDARD
END:VTIMEZONE
BEGIN:VEVENT
DTSTART;TZID=Europe/Luxembourg:20201029T100000
DTEND;TZID=Europe/Luxembourg:20201029T120000
DTSTAMP:20260425T024209
CREATED:20201014T133456Z
LAST-MODIFIED:20201014T133456Z
UID:3659-1603965600-1603972800@atdl.lu
SUMMARY:Conférence en ligne TMS
DESCRIPTION:L’Inspection du Travail et des Mines organise une conférence qui s’inscrit dans le cadre de la campagne « Lieux de travail sains 2020-2022 » de l’Agence européenne pour la sécurité et la santé au travail (EU-OSHA). \nLa conférence en langue française se tiendra via la plateforme Zoom\, le jeudi\, 29 octobre 2020 à partir de 10H00. Une interprétation simultanée en allemand sera assurée. \nLa conférence en ligne s’articulera autour du lien entre l’environnement de travail et les troubles musculosquelettiques (TMS)\, qui sont des troubles de l’appareil locomoteur. L’activité professionnelle peut jouer un rôle dans leur genèse\, leur maintien et leur aggravation. \nLes cas pratiques\, présentés par les experts invités\, décrivent les causes des TMS et présentent différentes démarches en matière de prévention pour différents secteurs d’activité et tailles d’entreprise. \nLa participation à la conférence en ligne est gratuite et permet aux personnes éligibles de recevoir un certificat de participation dans le cadre du programme de formation complémentaire pour salariés désignés et coordinateurs de sécurité et de santé. N’oubliez pas de cocher la case correspondante afin d’obtenir votre certificat.\n \n 
URL:https://atdl.lu/event/conference-en-ligne-tms/
CATEGORIES:Conférence,Formation continue
END:VEVENT
BEGIN:VEVENT
DTSTART;TZID=Europe/Luxembourg:20201029T143000
DTEND;TZID=Europe/Luxembourg:20201029T160000
DTSTAMP:20260425T024209
CREATED:20201014T133818Z
LAST-MODIFIED:20201014T133818Z
UID:3662-1603981800-1603987200@atdl.lu
SUMMARY:Séminaire en ligne TMS
DESCRIPTION:L’Inspection du Travail et des Mines organise un séminaire qui s’inscrit dans le cadre de la campagne « Lieux de travail sains 2020-2022 » de l’Agence européenne pour la sécurité et la santé au travail (EU-OSHA). \nLa conférence en langue française se tiendra via la plateforme Zoom\, le jeudi\, 29 octobre 2020 à partir de 14H30. Une interprétation simultanée en allemand sera assurée. \nLe séminaire en ligne s’articulera autour du lien entre l’environnement de travail et les troubles musculosquelettiques (TMS)\, qui sont des troubles de l’appareil locomoteur. L’activité professionnelle peut jouer un rôle dans leur genèse\, leur maintien et leur aggravation. \nLes cas pratiques\, présentés par les experts invités\, décrivent les causes des TMS et présentent différentes démarches en matière de prévention pour différents secteurs d’activité et tailles d’entreprise. \nLa participation au séminaire en ligne est gratuite et permet aux personnes éligibles de recevoir un certificat de participation dans le cadre du programme de formation complémentaire pour salariés désignés et coordinateurs de sécurité et de santé. N’oubliez pas de cocher la case correspondante afin d’obtenir votre certificat.\n \n 
URL:https://atdl.lu/event/seminaire-en-ligne-tms/
CATEGORIES:Conférence,Formation continue
END:VEVENT
END:VCALENDAR