BEGIN:VCALENDAR
VERSION:2.0
PRODID:-//ATDL - ECPv6.15.11//NONSGML v1.0//EN
CALSCALE:GREGORIAN
METHOD:PUBLISH
X-WR-CALNAME:ATDL
X-ORIGINAL-URL:https://atdl.lu
X-WR-CALDESC:Évènements pour ATDL
REFRESH-INTERVAL;VALUE=DURATION:PT1H
X-Robots-Tag:noindex
X-PUBLISHED-TTL:PT1H
BEGIN:VTIMEZONE
TZID:Europe/Luxembourg
BEGIN:DAYLIGHT
TZOFFSETFROM:+0100
TZOFFSETTO:+0200
TZNAME:CEST
DTSTART:20190331T010000
END:DAYLIGHT
BEGIN:STANDARD
TZOFFSETFROM:+0200
TZOFFSETTO:+0100
TZNAME:CET
DTSTART:20191027T010000
END:STANDARD
BEGIN:DAYLIGHT
TZOFFSETFROM:+0100
TZOFFSETTO:+0200
TZNAME:CEST
DTSTART:20200329T010000
END:DAYLIGHT
BEGIN:STANDARD
TZOFFSETFROM:+0200
TZOFFSETTO:+0100
TZNAME:CET
DTSTART:20201025T010000
END:STANDARD
BEGIN:DAYLIGHT
TZOFFSETFROM:+0100
TZOFFSETTO:+0200
TZNAME:CEST
DTSTART:20210328T010000
END:DAYLIGHT
BEGIN:STANDARD
TZOFFSETFROM:+0200
TZOFFSETTO:+0100
TZNAME:CET
DTSTART:20211031T010000
END:STANDARD
END:VTIMEZONE
BEGIN:VEVENT
DTSTART;TZID=Europe/Luxembourg:20200923T140000
DTEND;TZID=Europe/Luxembourg:20200923T162000
DTSTAMP:20260425T010854
CREATED:20200914T135020Z
LAST-MODIFIED:20200914T135020Z
UID:3643-1600869600-1600878000@atdl.lu
SUMMARY:Conférence en ligne base de données SCIP
DESCRIPTION:Le Helpdesk REACH&CLP Luxembourg\, en collaboration avec la plateforme Betriber&Emwelt\, organise une conférence en ligne sur la façon de se préparer à la soumission d’informations dans la base de données SCIP. Cet événement en ligne aura lieu le 23 septembre 2020 de 14h00 à 16h20. \n\n\n\n\n\nSCIP est une base de données dans laquelle seront disponibles des informations sur les substances préoccupantes contenues dans des articles en tant que tels ou dans des objets complexes (produits)\, établie en vertu de la dernière modification de la directive-cadre sur les déchets (Waste Framework Directive – WFD) publiée en 2018. À partir du 5 janvier 2021\, les entreprises fournissant des articles contenant des substances extrêmement préoccupantes (SVHC) dans une concentration supérieure à 0\,1 % (m/m) sur le marché de l’UE devront soumettre des informations sur ces articles à l’ECHA par le biais de la base de données SCIP. \nLe Helpdesk REACH&CLP Luxembourg propose cette session d’introduction pour aider les entreprises à se conformer à leur future obligation de soumission d’informations dans SCIP\, qui vise à garantir que les informations sur la présence de SVHC soient disponibles tout au long du cycle de vie des produits et matériaux\, y compris au stade des déchets. Ces obligations complètent les obligations déjà existantes au titre de REACH (obligations de communication\, d’enregistrement et de notification au titre de l’article 33 et de l’article 7\, paragraphes 1 et 2\, de REACH). Le Helpdesk reviendra également sur la base de données développée dans le cadre du projet AskREACH et à la manière dont celle-ci pourra aider les entreprises à se préparer à cette obligation de soumission d’informations relative à la base de données SCIP. \nComme lors de chaque session d’information\, les participants auront également la possibilité de poser leurs questions aux experts. \nPublic\nCet événement s’adresse à toute entreprise produisant ou fournissant des articles susceptibles de contenir des substances extrêmement préoccupantes (SVHC) sur le marché de l’UE\, y compris les importateurs et les opérateurs de recyclage. \nProgramme\nLes présentations se feront en anglais. \n[Programme seulement disponible en anglais] \n\n\n\n13h50\nOnline welcome\n\n\n14h00\nOpening\nGhaya Rziga\, REACH&CLP Helpdesk Luxembourg\, Luxembourg Institute of Science and Technology (LIST)\n\n\n14h05\nSetting the scene\nLaurène Chochois\, REACH&CLP Helpdesk Luxembourg\, Luxembourg Institute of Science and Technology (LIST)\n\n\n14h30\nSCIP database overview: How to get prepared?\nClara Rueda\, European Chemicals Agency (ECHA)\n\n\n15h15\nSynergies between the SCIP and AskREACH databases\nDr. Ioannis Dosis\, Umweltbundesamt (UBA)\n\n\n15h40\nFeedback on the impact of the SCIP database on the SDK activities \nFrank Fellens\, SuperDrecksKëscht (SDK)\n\n\n15h50\nIndustry perspective on the SCIP database and how to prepare for it\nOrtwin Meeuws\, Arcadis Belgium nv/sa\n\n\n16h00\nQuestions & answers\n\n\n16h10\nClosing remarks\nGhaya Rziga\, REACH&CLP Helpdesk Luxembourg\, Luxembourg Institute of Science and Technology (LIST)\n\n\n16h20\nEnd\n\n\n\n\n\n\n\n\n  \nFrais d’inscription : votre inscription est gratuite\, mais obligatoire \nContact\nGhaya Rziga\, Helpdesk REACH&CLP Luxembourg / +352 275 888 – 5088 / ghaya.rziga@list.lu
URL:https://atdl.lu/event/conf_reach820200923/
END:VEVENT
END:VCALENDAR