BEGIN:VCALENDAR
VERSION:2.0
PRODID:-//ATDL - ECPv6.15.11//NONSGML v1.0//EN
CALSCALE:GREGORIAN
METHOD:PUBLISH
X-ORIGINAL-URL:https://atdl.lu
X-WR-CALDESC:Évènements pour ATDL
REFRESH-INTERVAL;VALUE=DURATION:PT1H
X-Robots-Tag:noindex
X-PUBLISHED-TTL:PT1H
BEGIN:VTIMEZONE
TZID:Europe/Paris
BEGIN:DAYLIGHT
TZOFFSETFROM:+0100
TZOFFSETTO:+0200
TZNAME:CEST
DTSTART:20180325T010000
END:DAYLIGHT
BEGIN:STANDARD
TZOFFSETFROM:+0200
TZOFFSETTO:+0100
TZNAME:CET
DTSTART:20181028T010000
END:STANDARD
BEGIN:DAYLIGHT
TZOFFSETFROM:+0100
TZOFFSETTO:+0200
TZNAME:CEST
DTSTART:20190331T010000
END:DAYLIGHT
BEGIN:STANDARD
TZOFFSETFROM:+0200
TZOFFSETTO:+0100
TZNAME:CET
DTSTART:20191027T010000
END:STANDARD
BEGIN:DAYLIGHT
TZOFFSETFROM:+0100
TZOFFSETTO:+0200
TZNAME:CEST
DTSTART:20200329T010000
END:DAYLIGHT
BEGIN:STANDARD
TZOFFSETFROM:+0200
TZOFFSETTO:+0100
TZNAME:CET
DTSTART:20201025T010000
END:STANDARD
END:VTIMEZONE
BEGIN:VEVENT
DTSTART;TZID=Europe/Paris:20190117T120000
DTEND;TZID=Europe/Paris:20190117T140000
DTSTAMP:20260424T235719
CREATED:20181218T204759Z
LAST-MODIFIED:20181218T205032Z
UID:2594-1547726400-1547733600@atdl.lu
SUMMARY:Visite Showroom Ergo Seating
DESCRIPTION:La société Ergo Seating distribue des solutions pour améliorer l’rgonomie des postes de travail et propose à nos membres une visite de son showroom. \n  \nNombre de places limité: les premiers arrivés seont les premiers servis! Réservation par info(at)atdl.lu \n  \nUne collation sera servie à cette occasion.
URL:https://atdl.lu/event/visite-ergo-seating/
LOCATION:Ergo Seating\, 59\, Grand-Rue\, Roeser\, 3394\, Luxembourg
CATEGORIES:Visite d'entreprise
END:VEVENT
END:VCALENDAR