BEGIN:VCALENDAR
VERSION:2.0
PRODID:-//ATDL - ECPv6.15.11//NONSGML v1.0//EN
CALSCALE:GREGORIAN
METHOD:PUBLISH
X-WR-CALNAME:ATDL
X-ORIGINAL-URL:https://atdl.lu/?lang=en
X-WR-CALDESC:Events for ATDL
REFRESH-INTERVAL;VALUE=DURATION:PT1H
X-Robots-Tag:noindex
X-PUBLISHED-TTL:PT1H
BEGIN:VTIMEZONE
TZID:Europe/Luxembourg
BEGIN:DAYLIGHT
TZOFFSETFROM:+0100
TZOFFSETTO:+0200
TZNAME:CEST
DTSTART:20220327T010000
END:DAYLIGHT
BEGIN:STANDARD
TZOFFSETFROM:+0200
TZOFFSETTO:+0100
TZNAME:CET
DTSTART:20221030T010000
END:STANDARD
BEGIN:DAYLIGHT
TZOFFSETFROM:+0100
TZOFFSETTO:+0200
TZNAME:CEST
DTSTART:20230326T010000
END:DAYLIGHT
BEGIN:STANDARD
TZOFFSETFROM:+0200
TZOFFSETTO:+0100
TZNAME:CET
DTSTART:20231029T010000
END:STANDARD
BEGIN:DAYLIGHT
TZOFFSETFROM:+0100
TZOFFSETTO:+0200
TZNAME:CEST
DTSTART:20240331T010000
END:DAYLIGHT
BEGIN:STANDARD
TZOFFSETFROM:+0200
TZOFFSETTO:+0100
TZNAME:CET
DTSTART:20241027T010000
END:STANDARD
BEGIN:DAYLIGHT
TZOFFSETFROM:+0100
TZOFFSETTO:+0200
TZNAME:CEST
DTSTART:20250330T010000
END:DAYLIGHT
BEGIN:STANDARD
TZOFFSETFROM:+0200
TZOFFSETTO:+0100
TZNAME:CET
DTSTART:20251026T010000
END:STANDARD
END:VTIMEZONE
BEGIN:VEVENT
DTSTART;TZID=Europe/Luxembourg:20230705T173000
DTEND;TZID=Europe/Luxembourg:20230705T200000
DTSTAMP:20260425T142258
CREATED:20220308T183032Z
LAST-MODIFIED:20230621T200026Z
UID:3810-1688578200-1688587200@atdl.lu
SUMMARY:Assemblée Générale 2023
DESCRIPTION:ATTENTION changement de date du fait d’un imprévu\, merci de votre compréhension. \nAccueil des participants à partir de 17h30 \nVous pouvez vous inscrire ici. \nProgramme : \n\nAccueil de 17h30 à 18h00\nMot du Président de 18h00 à 18h15\nAssemblée Générale de 18h15 à 18h 45 (Bilan 2022\, Projets 2023\, élections CA)\nIntervention de M. Marc ANT de 18h45 à 19h00 (Centres de Compétences de l’Artisanat Luxembourgeois)\nLa gestion des déchets au Luxembourg de 19h00 à 19h30 (Société SDK)\nBilan 2022 ITM et Harcèlement sur son lieu de travail de 19h30 à 20h00 (ITM)\nEchanges et verre de l’amitié à partir de 20h00
URL:https://atdl.lu/event/ag-2023-2/?lang=en
LOCATION:Aforest\, 43-45 Op Zaemer\, Bascharage\, 4359\, Luxembourg
CATEGORIES:Assemblée Générale
END:VEVENT
BEGIN:VEVENT
DTSTART;TZID=Europe/Luxembourg:20240328T173000
DTEND;TZID=Europe/Luxembourg:20240328T203000
DTSTAMP:20260425T142258
CREATED:20230202T133853Z
LAST-MODIFIED:20230202T134601Z
UID:4057-1711647000-1711657800@atdl.lu
SUMMARY:Assemblée Générale 2023
DESCRIPTION:This year the General Assembly will take place in two parts: \n1. An Extraordinary General Assembly whose aim is to approve (or not) the modification of the statutes in order to open it to all persons interested in Hygiene (in the sense of Health)\, Safety and Environment\, upon presentation of a motivation letter. \nThe preliminary draft (subject to change) can be consulted here. Do not hesitate to bring your comments before the GA. \nNB: As the presence (or representation by proxy) of at least half of the members at this EGA is necessary for the approval of these statutes\, we expect a large attendance. In case of unavailability\, please give a proxy to a member who can attend. \nIf this quorum is not reached\, we will organise a 2nd EGA on 23 March\, same place\, same time. For this 2nd EGM\, a quorum is not required but in any case\, the modification of the statutes must be approved by at least 2/3 of the voters (present or represented). \nOnly paid-up members will be able to vote: please pay your membership fee in advance (contact us if necessary). \n2. An ordinary GA\, as you are used to \nProgramme : \n\nA welcome from the President.\nReport on the activities of the year 2022 by the secretary.\nCash report for the year 2022 by the treasurer.\nReport of the auditors\nDiscussion of the reports\nProposal to amend the statutes to allow all interested persons to join\nDetermination of the entrance fee and the membership fees for the year 2024.\nPartial renewal of the Board of Directors. Election of 4 full members and 2 deputies (article 5).\nElection of 2 auditors.\nActivities and provisional budget for the year 2023.\nMiscellaneous\nSnack\n\nPlease register or give your proxy through this link
URL:https://atdl.lu/event/ag-2023/?lang=en
LOCATION:Centre de compétences GT Bâtiment Parachèvement\, 448 ZAE Wolser F\, Bettembourg\, 3290\, Luxembourg
END:VEVENT
END:VCALENDAR