BEGIN:VCALENDAR
VERSION:2.0
PRODID:-//ATDL - ECPv6.15.11//NONSGML v1.0//EN
CALSCALE:GREGORIAN
METHOD:PUBLISH
X-ORIGINAL-URL:https://atdl.lu/?lang=en
X-WR-CALDESC:Events for ATDL
REFRESH-INTERVAL;VALUE=DURATION:PT1H
X-Robots-Tag:noindex
X-PUBLISHED-TTL:PT1H
BEGIN:VTIMEZONE
TZID:Europe/Luxembourg
BEGIN:DAYLIGHT
TZOFFSETFROM:+0100
TZOFFSETTO:+0200
TZNAME:CEST
DTSTART:20210328T010000
END:DAYLIGHT
BEGIN:STANDARD
TZOFFSETFROM:+0200
TZOFFSETTO:+0100
TZNAME:CET
DTSTART:20211031T010000
END:STANDARD
BEGIN:DAYLIGHT
TZOFFSETFROM:+0100
TZOFFSETTO:+0200
TZNAME:CEST
DTSTART:20220327T010000
END:DAYLIGHT
BEGIN:STANDARD
TZOFFSETFROM:+0200
TZOFFSETTO:+0100
TZNAME:CET
DTSTART:20221030T010000
END:STANDARD
BEGIN:DAYLIGHT
TZOFFSETFROM:+0100
TZOFFSETTO:+0200
TZNAME:CEST
DTSTART:20230326T010000
END:DAYLIGHT
BEGIN:STANDARD
TZOFFSETFROM:+0200
TZOFFSETTO:+0100
TZNAME:CET
DTSTART:20231029T010000
END:STANDARD
END:VTIMEZONE
BEGIN:VEVENT
DTSTART;TZID=Europe/Luxembourg:20220518T133000
DTEND;TZID=Europe/Luxembourg:20220518T170000
DTSTAMP:20260425T013030
CREATED:20220311T181910Z
LAST-MODIFIED:20220311T182417Z
UID:3840-1652880600-1652893200@atdl.lu
SUMMARY:Workshop KESKONFAISI
DESCRIPTION:Pétillances offers ATDL members a workshop in French on the prevention of psychosocial risks. \nThis workshop had won the public prize at the Occupational Health and Safety Forum in 2018. It has been updated to take into account feedback from the COVID context and the increase in teleworking. \nThis workshop is recognised as complementary training to the Travailleurs Désignés.\n \nFree training for (future) ATDL members \nLimited number of participants; please book here
URL:https://atdl.lu/event/workshop-keskonfaisi/?lang=en
LOCATION:LC Académie\, Zone Um Woeller\, Sanem\, 4410\, Luxembourg
END:VEVENT
END:VCALENDAR