BEGIN:VCALENDAR
VERSION:2.0
PRODID:-//ATDL - ECPv6.15.11//NONSGML v1.0//EN
CALSCALE:GREGORIAN
METHOD:PUBLISH
X-WR-CALNAME:ATDL
X-ORIGINAL-URL:https://atdl.lu/?lang=en
X-WR-CALDESC:Events for ATDL
REFRESH-INTERVAL;VALUE=DURATION:PT1H
X-Robots-Tag:noindex
X-PUBLISHED-TTL:PT1H
BEGIN:VTIMEZONE
TZID:Europe/Luxembourg
BEGIN:DAYLIGHT
TZOFFSETFROM:+0100
TZOFFSETTO:+0200
TZNAME:CEST
DTSTART:20190331T010000
END:DAYLIGHT
BEGIN:STANDARD
TZOFFSETFROM:+0200
TZOFFSETTO:+0100
TZNAME:CET
DTSTART:20191027T010000
END:STANDARD
BEGIN:DAYLIGHT
TZOFFSETFROM:+0100
TZOFFSETTO:+0200
TZNAME:CEST
DTSTART:20200329T010000
END:DAYLIGHT
BEGIN:STANDARD
TZOFFSETFROM:+0200
TZOFFSETTO:+0100
TZNAME:CET
DTSTART:20201025T010000
END:STANDARD
BEGIN:DAYLIGHT
TZOFFSETFROM:+0100
TZOFFSETTO:+0200
TZNAME:CEST
DTSTART:20210328T010000
END:DAYLIGHT
BEGIN:STANDARD
TZOFFSETFROM:+0200
TZOFFSETTO:+0100
TZNAME:CET
DTSTART:20211031T010000
END:STANDARD
END:VTIMEZONE
BEGIN:VEVENT
DTSTART;TZID=Europe/Luxembourg:20200429T080000
DTEND;TZID=Europe/Luxembourg:20200429T180000
DTSTAMP:20260425T012354
CREATED:20191111T193843Z
LAST-MODIFIED:20191111T194703Z
UID:3529-1588147200-1588183200@atdl.lu
SUMMARY:Occupational health and safety forum
DESCRIPTION:The organisers and partners are glad to invite you to the 14th edition of the Occupational Health and Safety Forum\, on Wednesday 29 April 2020 at LUXEXPO THE BOX\, Luxembourg-Kirchberg. The Forum is part of the national VISION ZERO prevention strategy\, which promotes the idea that all accidents at work can be prevented and that a world without serious and fatal accidents is possible. The Forum will also serve as a platform for the presentation of the National Occupational Health and Safety Award\, jointly promoted by the Ministry of Health\, the Ministry of Social Security and the Ministry of Labour\, Employment and the Social and Solidarity Economy\, in association with the organizers of the award (AAA\, DSATE\, INDR\, ITM and UEL). Through this prize\, the national partners promote particularly innovative measures or products in the field of improving safety\, health and of well-being at work. Discover during this edition of the Forum: – More than 100 stands presenting the latest innovations in occupational safety and health – 3 rooms with a total of 230 seats to accommodate parallel workshops. The workshops are recognised as continuing training for designated workers\, a certificate of participation will be sent by e-mail. – The presentation of the 2020 National Occupational Health and Safety Award in the presence of the 3 ministers concerned The detailed programme and list of exhibitors will be available in March.  
URL:https://atdl.lu/event/3529/?lang=en
LOCATION:Luxexpo\, 10 circuit de la Foire internatonale\, Luxembourg\, Luxembourg
END:VEVENT
END:VCALENDAR