BEGIN:VCALENDAR
VERSION:2.0
PRODID:-//ATDL - ECPv6.15.11//NONSGML v1.0//EN
CALSCALE:GREGORIAN
METHOD:PUBLISH
X-WR-CALNAME:ATDL
X-ORIGINAL-URL:https://atdl.lu
X-WR-CALDESC:Évènements pour ATDL
REFRESH-INTERVAL;VALUE=DURATION:PT1H
X-Robots-Tag:noindex
X-PUBLISHED-TTL:PT1H
BEGIN:VTIMEZONE
TZID:Europe/Paris
BEGIN:DAYLIGHT
TZOFFSETFROM:+0100
TZOFFSETTO:+0200
TZNAME:CEST
DTSTART:20180325T010000
END:DAYLIGHT
BEGIN:STANDARD
TZOFFSETFROM:+0200
TZOFFSETTO:+0100
TZNAME:CET
DTSTART:20181028T010000
END:STANDARD
BEGIN:DAYLIGHT
TZOFFSETFROM:+0100
TZOFFSETTO:+0200
TZNAME:CEST
DTSTART:20190331T010000
END:DAYLIGHT
BEGIN:STANDARD
TZOFFSETFROM:+0200
TZOFFSETTO:+0100
TZNAME:CET
DTSTART:20191027T010000
END:STANDARD
BEGIN:DAYLIGHT
TZOFFSETFROM:+0100
TZOFFSETTO:+0200
TZNAME:CEST
DTSTART:20200329T010000
END:DAYLIGHT
BEGIN:STANDARD
TZOFFSETFROM:+0200
TZOFFSETTO:+0100
TZNAME:CET
DTSTART:20201025T010000
END:STANDARD
END:VTIMEZONE
BEGIN:VEVENT
DTSTART;TZID=Europe/Paris:20190508T120000
DTEND;TZID=Europe/Paris:20190508T140000
DTSTAMP:20260424T210106
CREATED:20190418T071748Z
LAST-MODIFIED:20190418T200308Z
UID:2677-1557316800-1557324000@atdl.lu
SUMMARY:RGPD - Protection des données
DESCRIPTION:La Protection des données personnelles est une problématique qui impacte les travailleurs désignés parce qu’ils ont à traiter des données personnelles (matricules de sécurité sociale\, ancienneté\, aptitudes médicales\, photos\, pointages\, absentéisme…) des salariés. \nUne réunion du groupe de travail Bâtiment est ouverte concernant le Règlement (UE) 2016/679 du Parlement Européen et du Conseil du 27 avril 2016 à tous les membres ATDL intéressés. Merci de vous inscrire avant le 6 mai.  \nCorrectif: Merci à Adecco d’accueillir ce Lunchwork. \nUn sandwich sera proposé. \nPossibilité de reconnaissance comme formation continue des Travailleurs Désignés.
URL:https://atdl.lu/event/rgpd/
LOCATION:Adecco\, 5\, rue des Mérinvogiens\, Bertrange\, 8070\, Luxembourg
CATEGORIES:Formation continue
END:VEVENT
END:VCALENDAR