BEGIN:VCALENDAR
VERSION:2.0
PRODID:-//ATDL - ECPv6.15.11//NONSGML v1.0//EN
CALSCALE:GREGORIAN
METHOD:PUBLISH
X-WR-CALNAME:ATDL
X-ORIGINAL-URL:https://atdl.lu
X-WR-CALDESC:Évènements pour ATDL
REFRESH-INTERVAL;VALUE=DURATION:PT1H
X-Robots-Tag:noindex
X-PUBLISHED-TTL:PT1H
BEGIN:VTIMEZONE
TZID:Europe/Paris
BEGIN:DAYLIGHT
TZOFFSETFROM:+0100
TZOFFSETTO:+0200
TZNAME:CEST
DTSTART:20180325T010000
END:DAYLIGHT
BEGIN:STANDARD
TZOFFSETFROM:+0200
TZOFFSETTO:+0100
TZNAME:CET
DTSTART:20181028T010000
END:STANDARD
BEGIN:DAYLIGHT
TZOFFSETFROM:+0100
TZOFFSETTO:+0200
TZNAME:CEST
DTSTART:20190331T010000
END:DAYLIGHT
BEGIN:STANDARD
TZOFFSETFROM:+0200
TZOFFSETTO:+0100
TZNAME:CET
DTSTART:20191027T010000
END:STANDARD
BEGIN:DAYLIGHT
TZOFFSETFROM:+0100
TZOFFSETTO:+0200
TZNAME:CEST
DTSTART:20200329T010000
END:DAYLIGHT
BEGIN:STANDARD
TZOFFSETFROM:+0200
TZOFFSETTO:+0100
TZNAME:CET
DTSTART:20201025T010000
END:STANDARD
END:VTIMEZONE
BEGIN:VEVENT
DTSTART;TZID=Europe/Paris:20190425T160000
DTEND;TZID=Europe/Paris:20190425T183000
DTSTAMP:20260424T203823
CREATED:20190328T171806Z
LAST-MODIFIED:20190328T072311Z
UID:2669-1556208000-1556217000@atdl.lu
SUMMARY:La responsabilité du chef d'entreprises en matière de SST
DESCRIPTION:Conférence Sécurité et santé au travail : responsabilité du chef d’entreprise !\n\n\nCette conférence\, organisée à la Chambre des Métiers vise à présenter de façon pragmatique\, à partir de cas vécus\, les droits et obligations issus de la législation applicable\, surtout autour de la « responsabilité du chef d’entreprise en rapport avec la sécurité et santé au travail »\, et à donner des conseils y relatifs. \nUne séance question-réponses permettra d’approfondir les questions des entreprises intéressées dans le cadre d’un échange avec l’orateur Me Rosario Grasso\, Avocat à la Cour (Cabinet d’avocats Kleyr Grasso). \nPar ailleurs\, la conférence permettra de présenter la « Boîte à outils – VISION ZERO »\, les labels « Sécher a Gesond mat System » & « Entreprises Responsable ESR » ainsi que les nouvelles entreprises labellisées\, ayant mis en œuvre une stratégie conséquente de management de la sécurité et de la santé. \n\n\n\n\n\n\nProgramme\n\n\n16:00\nAllocution de bienvenue\nM. Tom Oberweis – Président de la Chambre des Métiers\n\n\n16:15\n\nDiscours d’introduction\nM. Dan Kersch – Ministre du Travail\, de l’Emploi et de l’Economie sociale et solidaire \n\n\n\n16:30\nLa responsabilité du chef d’entreprise en matière de sécurité et santé au travail\nIllustrations et cas concrets\nMe Rosario Grasso – Avocat à la Cour – Cabinet d’avocats Kleyr Grasso\n\n\n17:20\nSéance – Questions-Réponses\nMe Rosario Grasso – Avocat à la Cour – Cabinet d’avocats Kleyr Grasso\n\n\n17:40\nPrésentation du label « Entreprise Responsable – ESR » de l’INDR\nM. Norman Fisch – Secrétaire général – INDR\n\n\n17:50\nBoîte à outils « VISION ZERO » & Label « Sécher a Gesond mat System »\nMme Annick Sunnen – Responsable du Service Prévention\nAssociation d’Assurance Accident\n\n\n18:05\nPrésentation des nouvelles entreprises labellisées « Sécher a Gesond mat System »\n\n\n18:20\nConclusions\nM. Marc Gross – Directeur Affaires sociales – Chambre des Métiers\n\n\n18:30\nDrink de clôture\n\n\n\n\n\nLa conférence se tiendra en langue française. Une traduction simultanée français-allemand sera réalisée.\nDie Veranstaltungssprache ist Französisch. Eine Simultanübersetzung Französisch – Deutsch wird gewährleistet. \nLa participation est gratuite\, mais l’inscription est obligatoire via le formulaire https://www.cdm.lu/services/agenda/categorie/eventsevent/conference-securite-et-sante-au-travail-responsabilite-du-chef-d-entreprise
URL:https://atdl.lu/event/la-responsabilite-du-chef-dentreprises-en-matiere-de-sst/
LOCATION:Chambre des Métiers\, 2 Cricuit de la Foire Internationale\, Luxembourg\, 1347\, Luxembourg
CATEGORIES:Conférence
END:VEVENT
END:VCALENDAR