BEGIN:VCALENDAR
VERSION:2.0
PRODID:-//ATDL - ECPv4.9.12//NONSGML v1.0//EN
CALSCALE:GREGORIAN
METHOD:PUBLISH
X-WR-CALNAME:ATDL
X-ORIGINAL-URL:https://atdl.lu
X-WR-CALDESC:Évènements pour ATDL
BEGIN:VTIMEZONE
TZID:Europe/Paris
BEGIN:DAYLIGHT
TZOFFSETFROM:+0100
TZOFFSETTO:+0200
TZNAME:CEST
DTSTART:20190331T010000
END:DAYLIGHT
BEGIN:STANDARD
TZOFFSETFROM:+0200
TZOFFSETTO:+0100
TZNAME:CET
DTSTART:20191027T010000
END:STANDARD
END:VTIMEZONE
BEGIN:VEVENT
DTSTART;TZID=Europe/Paris:20190702T120000
DTEND;TZID=Europe/Paris:20190702T140000
DTSTAMP:20200122T062537
CREATED:20190612T165853Z
LAST-MODIFIED:20190913T074117Z
UID:2709-1562068800-1562076000@atdl.lu
SUMMARY:Groupe de travail industrie - nouvelle date
DESCRIPTION:\n\n\nC’est la première réunion de ce groupe qui se réunira tous les mois pour parler de problématiques propres au secteur industriel et trouver des solutions pratiques.\n\nThématiques propres au secteur\, au choix des participants: sécurité machines\, produits dangereux\, consignations /déconsignations\, travail en milieu confiné\, travailleur isolé\, zones ATEX…\n\nLieu: dans une des entreprises des participants\, prête à accueillir le groupe.\n\nChez Aforest à Bascharage pour ce 2 juillet.\n\nIl est ouvert à tous les travailleurs désignés du secteur sur candidature auprès de info@atdl.lu. Merci de manifester votre intérêt.\n\nPossibilité de reconnaissance comme formation continue des Travailleurs Désignés.\n\nDes sandwichs seront proposés.\n\n\n\n
URL:https://atdl.lu/event/gt-industrie/
LOCATION:Aforest\, 43-45 Op Zaemer\, Bascharage\, 4359\, Luxembourg
CATEGORIES:Groupes de travail
END:VEVENT
END:VCALENDAR