BEGIN:VCALENDAR
VERSION:2.0
PRODID:-//Association des Travailleurs Désignés Luxembourg - ECPv4.3.3//NONSGML v1.0//EN
CALSCALE:GREGORIAN
METHOD:PUBLISH
X-WR-CALNAME:Association des Travailleurs Désignés Luxembourg
X-ORIGINAL-URL:http://atdl.lu
X-WR-CALDESC:Events for Association des Travailleurs Désignés Luxembourg
BEGIN:VEVENT
DTSTART;TZID=UTC+1:20171214T123000
DTEND;TZID=UTC+1:20171214T170000
DTSTAMP:20171221T024553
CREATED:20170929T163032Z
LAST-MODIFIED:20171116T090846Z
UID:1827-1513254600-1513270800@atdl.lu
SUMMARY:Conférence & Networking Lunch REACH&CLP 
DESCRIPTION:Le Helpdesk REACH & CLP Luxembourg\, un service du Luxembourg Institute of Science and Technology (LIST)\, a le plaisir de vous inviter à l'événement suivant :\n\nConférence & Networking Lunch : Mise en œuvre des règlements REACH &CLP et challenges à venir\n\nCet évènement se déroulera en deux parties et présentera :\n\n\tLes dernières évolutions des règlements REACH (enRegistrement\, Evaluation\, Autorisation et restrictions des substances CHimiques) et CLP (Classification\, Etiquetage et Emballage des substances et mélanges chimiques) ainsi que les mises à jour relatives aux points clés de ces règlements (Helpdesk REACH&CLP).\n\tD’autres sujets seront également à l’honneur avec :\n\no Le lien existant entre le règlement REACH et la législation sur la santé et la sécurité au travail (Commission Européenne\, DG Emploi) ;\n\no L’échéance d’enregistrement REACH 2018 qui concerne les petits tonnages (1-100 tonnes/an) et la présentation des différentes étapes permettant d’effectuer un enregistrement avec succès (Agence européenne des produits chimiques\, ECHA) ;\n\no Les derniers développements relatifs aux nanomatériaux dans le cadre de REACH (Helpdesk REACH&CLP) ;\n\no La substitution des substances dangereuses dans le cadre de REACH avec la présentation des derniers développements de la stratégie de l’ECHA concernant la substitution (ECHA) et les possibilités de financement existant au Luxembourg (Luxinnovation).\n\nLa ministre de l’environnement\, Madame Carole Dieschbourg\, nous fera également l’honneur d’introduire la seconde partie de cette conférence.\n\nUn « Networking lunch » pour vous offrir l’opportunité d’échanger\, dans un cadre convivial\, avec l’équipe du Helpdesk REACH&CLP Luxembourg et les intervenants de la conférence ainsi qu’avec d’autres industriels.\n\nInformations pratiques\n\nLangues : français et anglais\n\nInscription : l’inscription en ligne en temps utile\n\nFrais d’inscription : votre inscription est gratuite\, mais obligatoire. Vous recevrez une confirmation par email une semaine avant la date de l’événement.
URL:http://atdl.lu/event/reach2017/
LOCATION:7\, rue Alcide de Gasperi\, Luxembourg\, 2980\, Luxembourg
CATEGORIES:Conférence,REACH
END:VEVENT
END:VCALENDAR