BEGIN:VCALENDAR
VERSION:2.0
PRODID:-//Association des Travailleurs Désignés Luxembourg - ECPv4.3.3//NONSGML v1.0//EN
CALSCALE:GREGORIAN
METHOD:PUBLISH
X-WR-CALNAME:Association des Travailleurs Désignés Luxembourg
X-ORIGINAL-URL:http://atdl.lu
X-WR-CALDESC:Events for Association des Travailleurs Désignés Luxembourg
BEGIN:VEVENT
DTSTART;TZID=UTC+1:20171207T130000
DTEND;TZID=UTC+1:20171207T170000
DTSTAMP:20171221T024536
CREATED:20171018T195928Z
LAST-MODIFIED:20171116T090650Z
UID:2193-1512651600-1512666000@atdl.lu
SUMMARY:Conférence annuelle Betriber & Emwelt 2017: Législation environnementale
DESCRIPTION:Pour sa seconde édition\, la conférence annuelle « Betriber&Emwelt » sera l’occasion de revenir sur les changements législatifs qui ont été les plus déterminants pour le Grand-Duché de Luxembourg au cours de cette année 2017 et ceux à venir pour 2018.\n\nLes entreprises sont soumises à un large panel de réglementations environnementales\, cet événement a donc pour vocation de présenter les derniers avancements concernant la législation en vigueur.\n\nUn « networking lunch » vous offrira l’opportunité d’échanger\, dans un cadre convivial\, avec les collaborateurs du LIST et les intervenants de la conférence ainsi qu’avec d’autres industriels.\n\nCet évènement s’inscrit dans le cadre du cycle « Betriber & Emwelt » où le département « Environmental Research and Innovation » (ERIN) du Luxembourg Institute of Science and Technology (LIST)\, conjointement avec l’Administration de l’Environnement (AEV)\, propose aux entreprises et aux structures publiques luxembourgeoises\, une série de sessions d’information sur des thématiques liées à l’environnement.\nProgramme\n\n\n\n12h30\nAccueil & Networking lunch\n\n\n13h30\nMot de bienvenue\nCarole Dieschbourg\, Ministre de l’Environnement\, Ministère du Développement durable et des Infrastructures (MDDI)\n\n\n13h35\nMot de bienvenue\nRené Winkin\, Directeur\, Fedil\n\n\n13h40\nIntroduction\nLucien Hoffmann\, Directeur du département Environmental Research and Innovation (ERIN)\, Luxembourg Institute of Science and Technology (LIST)\n\n\n13h45\nPerspectives de changements concernant l’évaluation des incidences sur l’environnement (EIE) et pertinence des plans d’aménagements PAP/PAG pour les entreprises\nPhillipe Peters\, Conseiller de Gouvernement\, Ministère du Développement durable et des Infrastructures (MDDI)\n\n\n14h10\nAperçu de la réglementation luxembourgeoise en vigueur en matière d’établissements classés et législations afférentes Changements législatifs en 2017 et projets de législations en cours \nMarianne Mousel\, Responsable de l’unité permis et subsides\, Administration de l’Environnement (AEV)\n\n\n14h25\nPrésentation du e-formulaire « commodo »\nFrançois Verstraeten\, Chargé d’études\, Administration de l’Environnement (AEV)\n\n\n14h40\nChangements législatifs en cours de planification et futurs projets\nJoëlle Welfring\, Directrice adjointe\, Administration de l’Environnement (AEV)\n\n\n14h50\nQ&A\n\n\n15h00\nPause café\n\n\n15h30\nModifications de la loi modifiée du 19 décembre 2008 relative à l'eau et évolution des zones de protection\nOlivier Jeitz\, Chef du service Autorisations\, Administration de la Gestion de l’Eau (AGE)Magali Bernard\, Service Autorisations\, Administration de la Gestion de l’Eau (AGE)\n\n\n15h45\nEvolution concernant la réglementation Seveso\nInspection du Travail et des Mines (ITM)\n\n\n16h05\nNouveaux guides pratiques concernant d’une part l‘inventaire des matériaux lors de la déconstruction et d’autre part les produits chimiques et la réglementation « commodo »\nSara Capelli\, Ingénieur et Christina Ehlert\, Ingénieur sénior\, Luxembourg Institute of Science and Technology (LIST)\n\n\n16h15\nQ&A\n\n\n16h25\nConclusion\nLaurène Chochois\, Ingénieur\, Luxembourg Institute of Science and Technology (LIST)\n\n\n16h30\nFin\n\n\n\nInscription ouverte
URL:http://atdl.lu/event/conference-annuelle-betriber-emwelt-2017-legislation-environnementale/
LOCATION:7\, rue Alcide de Gasperi\, Luxembourg\, 2980\, Luxembourg
CATEGORIES:Conférence
END:VEVENT
END:VCALENDAR