BEGIN:VCALENDAR
VERSION:2.0
PRODID:-//Association des Travailleurs Désignés Luxembourg - ECPv4.3.3//NONSGML v1.0//EN
CALSCALE:GREGORIAN
METHOD:PUBLISH
X-WR-CALNAME:Association des Travailleurs Désignés Luxembourg
X-ORIGINAL-URL:http://atdl.lu
X-WR-CALDESC:Events for Association des Travailleurs Désignés Luxembourg
BEGIN:VEVENT
DTSTART;VALUE=DATE:20151027
DTEND;VALUE=DATE:20151030
DTSTAMP:20180701T230556
CREATED:20150910T085835Z
LAST-MODIFIED:20150910T140128Z
UID:1361-1445904000-1446249599@atdl.lu
SUMMARY:A+A Messe
DESCRIPTION:Statement in Vorschau auf die A+A 2015 von Joachim Schäfer\, Geschäftsführer Messe Düsseldorf GmbH\n  \n\nDer Mensch ist der wichtigste und zugleich verletzlichste Teil eines Unternehmens. Deshalb sind Arbeitsschutz und alle Maßnahmen mit dem Ziel des Erhalts der Arbeitskraft wichtige Themen und vor dem Hintergrund des Wandels der Arbeitswelt auch aktueller denn je. Neue Technologien halten Einzug in die Unternehmen\, die Verdichtung der Arbeit schreitet voran.\n\nDer demografische Wandel führt zu einer Alterung der Belegschaften und schon jetzt zeigt sich in einigen Branchen in der Folge der Arbeitskräftemangel. Vor dem Hintergrund dieser Herausforderungen müssen Unternehmen über bestehende gesetzliche Vorgaben hinaus ein „ureigenes“ Interesse an sicheren und gesunderhaltenden Arbeitsbedingungen haben und sie profitieren unmittelbar von entsprechenden Investitionen. Die „Europäische Agentur für Sicherheit und Gesundheitsschutz am Arbeitsplatz“ (EU-OSHA) beziffert die Rendite jedes in die betriebliche Gesundheitsförderung investierten Euros auf 2\,50 bis 4\,80 Euro.Die A+A in Düsseldorf\, die Nr. 1-Veranstaltung für sicheres und gesundes Arbeiten (Fachmesse + Kongress)\, wird den Anforderungen der modernen Arbeitswelt in den Unternehmen gerecht mit ihren drei umfassenden Schwerpunktbereichen: Persönlicher Schutz\, betriebliche Sicherheit und Gesundheit bei der Arbeit/ Corporate Health.
URL:http://atdl.lu/event/aa-messe/
LOCATION:Stockumer Kirchstraße 61 \, Düsseldorf \, 40474 \, Germany
CATEGORIES:Foire
END:VEVENT
END:VCALENDAR